BEGIN:VCALENDAR
VERSION:2.0
PRODID:icalendar-ruby
CALSCALE:GREGORIAN
METHOD:PUBLISH
BEGIN:VEVENT
DTSTAMP:20260423T114924Z
UID:49-1600833@churchoftheriver.org
DTSTART:20261029T000000Z
DTEND:20261029T013000Z
CLASS:PUBLIC
CREATED:20260422T215954
DESCRIPTION:In the Sanctuary unless otherwise indicated.
LAST-MODIFIED:20260422T215954
LOCATION:Sanctuary
SUMMARY:Awesome Little Choir Rehearsal
URL;VALUE=URI:https://www.churchoftheriver.org/events/awesome-little-choir-
 rehearsal--49/2026-10-28
ATTACH;FILENAME=music_av-08.jpg;FMTTYPE=image/jpeg:https://dq5pwpg1q8ru0.cl
 oudfront.net/2025/08/06/20/42/53/af8723f4-c508-46ad-b11c-6d71ec17a460/musi
 c_av-08.jpg
END:VEVENT
END:VCALENDAR
