BEGIN:VCALENDAR
VERSION:2.0
PRODID:icalendar-ruby
CALSCALE:GREGORIAN
METHOD:PUBLISH
BEGIN:VEVENT
DTSTAMP:20260420T052457Z
UID:90-1540119@churchoftheriver.org
DTSTART:20260508T223000Z
DTEND:20260509T020000Z
CLASS:PUBLIC
CREATED:20260406T141602
DESCRIPTION:
LAST-MODIFIED:20260406T141602
LOCATION:Mississippi River Room
SUMMARY:Board Game Night
URL;VALUE=URI:https://www.churchoftheriver.org/events/board-game-night/2026
 -05-08
ATTACH;FILENAME=board-games-1.jpg;FMTTYPE=image/jpeg:https://dq5pwpg1q8ru0.
 cloudfront.net/2026/04/06/19/16/02/1172df47-3917-453f-a763-8372daba35f6/bo
 ard-games-1.jpg
END:VEVENT
END:VCALENDAR
