BEGIN:VCALENDAR
VERSION:2.0
PRODID:icalendar-ruby
CALSCALE:GREGORIAN
METHOD:PUBLISH
BEGIN:VEVENT
DTSTAMP:20260420T055528Z
UID:15-1589010@churchoftheriver.org
DTSTART:20260920T143000Z
DTEND:20260920T153000Z
CLASS:PUBLIC
CREATED:20260419T225430
DESCRIPTION:The Journeys adult discussion group meets Sunday mornings from 
 9:30 to 10:30 in the Beacon Room (library)\, with the exception of Sundays
  when Rev. Hopkins is teaching class. Group members take turns choosing a 
 different spiritual topic for discussion each week.
LAST-MODIFIED:20260419T225430
LOCATION:Beacon Room
SUMMARY:Journeys Group
URL;VALUE=URI:https://www.churchoftheriver.org/events/journeys-group/2026-0
 9-20
ATTACH;FILENAME=1-Journeys-%281500-x-784-px%29.png;FMTTYPE=image/png:https:
 //dq5pwpg1q8ru0.cloudfront.net/2025/01/15/19/16/07/d7563208-5c8c-491b-900e
 -bc6534840e3e/1-Journeys-%25281500-x-784-px%2529.png
END:VEVENT
END:VCALENDAR
